{
 "currentVersion": 10.21,
 "serviceDescription": "",
 "name": "Carta_Monte_Etna_e_monti_di_eruzione",
 "description": "Carta_Monte_Etna_e_monti_di_eruzione",
 "extent": {
  "xmin": 1625178.5248475452,
  "ymin": 4489392.824189714,
  "xmax": 1728585.6643596434,
  "ymax": 4589461.819713575,
  "spatialReference": {
   "wkid": 102100,
   "latestWkid": 3857
  }
 },
 "initialExtent": {
  "xmin": 1625178.5248475452,
  "ymin": 4489392.824189714,
  "xmax": 1728585.6643596434,
  "ymax": 4589461.819713575,
  "spatialReference": {
   "wkid": 102100,
   "latestWkid": 3857
  }
 },
 "fullExtent": {
  "xmin": 1625178.5248475452,
  "ymin": 4489392.824189714,
  "xmax": 1728585.6643596434,
  "ymax": 4589461.819713575,
  "spatialReference": {
   "wkid": 102100,
   "latestWkid": 3857
  }
 },
 "pixelSizeX": 15.233815484987943,
 "pixelSizeY": 18.89163593050041,
 "bandCount": 3,
 "pixelType": "U8",
 "minPixelSize": 0,
 "maxPixelSize": 0,
 "copyrightText": "",
 "serviceDataType": "esriImageServiceDataTypeRGB",
 "minValues": [],
 "maxValues": [],
 "meanValues": [],
 "stdvValues": [],
 "objectIdField": "",
 "fields": [],
 "capabilities": "Image,Metadata,Mensuration",
 "defaultMosaicMethod": "Center",
 "allowedMosaicMethods": "",
 "sortField": "",
 "sortValue": null,
 "mosaicOperator": "First",
 "defaultCompressionQuality": 75,
 "defaultResamplingMethod": "Bilinear",
 "maxImageHeight": 4100,
 "maxImageWidth": 15000,
 "allowRasterFunction": true,
 "rasterFunctionInfos": [],
 "rasterTypeInfos": [
  {
   "name": "Raster Dataset",
   "description": "Supports all ArcGIS Raster Datasets",
   "help": ""
  }
 ],
 "mensurationCapabilities": "Basic",
 "hasHistograms": false,
 "hasColormap": false,
 "hasRasterAttributeTable": false,
 "minScale": 0,
 "maxScale": 0,
 "exportTilesAllowed": false,
 "supportsStatistics": false,
 "supportsAdvancedQueries": false,
 "editFieldsInfo": null,
 "ownershipBasedAccessControlForRasters": null,
 "allowComputeTiePoints": false,
 "useStandardizedQueries": true,
 "spatialReference": {
  "wkid": 102100,
  "latestWkid": 3857
 }
}
