{
 "currentVersion": 10.21,
 "serviceDescription": "CTR comune di roma alla scala 1:5.000",
 "name": "raster/ctr_roma_5k_WGS84_F33",
 "description": "CTR comune di roma alla scala 1:5.000",
 "extent": {
  "xmin": 268245.1786851686,
  "ymin": 4614740.100309689,
  "xmax": 324244.42166966863,
  "ymax": 4669757.100983378,
  "spatialReference": {
   "wkid": 32633,
   "latestWkid": 32633
  }
 },
 "initialExtent": {
  "xmin": 268245.1786851686,
  "ymin": 4614740.100309689,
  "xmax": 324244.42166966863,
  "ymax": 4669757.100983378,
  "spatialReference": {
   "wkid": 32633,
   "latestWkid": 32633
  }
 },
 "fullExtent": {
  "xmin": 268245.1786851686,
  "ymin": 4614740.100309689,
  "xmax": 324244.42166966863,
  "ymax": 4669757.100983378,
  "spatialReference": {
   "wkid": 32633,
   "latestWkid": 32633
  }
 },
 "pixelSizeX": 0.4233803063840566,
 "pixelSizeY": 0.42338030638405616,
 "bandCount": 1,
 "pixelType": "U8",
 "minPixelSize": 0,
 "maxPixelSize": 0,
 "copyrightText": "",
 "serviceDataType": "esriImageServiceDataTypeGeneric",
 "minValues": [
  0
 ],
 "maxValues": [
  255
 ],
 "meanValues": [
  167.85767507785
 ],
 "stdvValues": [
  113.31963424508
 ],
 "objectIdField": "",
 "fields": [],
 "capabilities": "Image,Metadata,Mensuration",
 "defaultMosaicMethod": "Center",
 "allowedMosaicMethods": "",
 "sortField": "",
 "sortValue": null,
 "mosaicOperator": "First",
 "defaultCompressionQuality": 75,
 "defaultResamplingMethod": "Bilinear",
 "maxImageHeight": 4100,
 "maxImageWidth": 15000,
 "allowRasterFunction": true,
 "rasterFunctionInfos": [],
 "rasterTypeInfos": [
  {
   "name": "Raster Dataset",
   "description": "Supports all ArcGIS Raster Datasets",
   "help": ""
  }
 ],
 "mensurationCapabilities": "Basic",
 "hasHistograms": true,
 "hasColormap": false,
 "hasRasterAttributeTable": false,
 "minScale": 16000,
 "maxScale": 2000,
 "exportTilesAllowed": true,
 "maxExportTilesCount": 100000,
 "supportsStatistics": false,
 "supportsAdvancedQueries": false,
 "editFieldsInfo": null,
 "ownershipBasedAccessControlForRasters": null,
 "allowComputeTiePoints": false,
 "useStandardizedQueries": true,
 "spatialReference": {
  "wkid": 32633,
  "latestWkid": 32633
 }
}
