{
 "currentVersion": 10.21,
 "serviceDescription": "Modello strutturale italiano alla scala 1:500,000 del CNR",
 "name": "raster/stru_500k_italia",
 "description": "Modello strutturale italiano alla scala 1:500,000 del CNR",
 "extent": {
  "xmin": 218302.89559366278,
  "ymin": 3924751.690099008,
  "xmax": 1324054.6628867753,
  "ymax": 5345758.779358019,
  "spatialReference": {
   "wkid": 32632,
   "latestWkid": 32632
  }
 },
 "initialExtent": {
  "xmin": 218302.89559366278,
  "ymin": 3924751.690099008,
  "xmax": 1324054.6628867753,
  "ymax": 5345758.779358019,
  "spatialReference": {
   "wkid": 32632,
   "latestWkid": 32632
  }
 },
 "fullExtent": {
  "xmin": 218302.89559366278,
  "ymin": 3924751.690099008,
  "xmax": 1324054.6628867753,
  "ymax": 5345758.779358019,
  "spatialReference": {
   "wkid": 32632,
   "latestWkid": 32632
  }
 },
 "pixelSizeX": 65.4329704297954,
 "pixelSizeY": 64.8269657508673,
 "bandCount": 3,
 "pixelType": "U8",
 "minPixelSize": 0,
 "maxPixelSize": 0,
 "copyrightText": "",
 "serviceDataType": "esriImageServiceDataTypeRGB",
 "minValues": [
  0,
  0,
  0
 ],
 "maxValues": [
  255,
  255,
  255
 ],
 "meanValues": [
  220.39887470364,
  226.0478842682,
  190.78180225836
 ],
 "stdvValues": [
  52.070508057244,
  44.131085139644,
  56.775549303015
 ],
 "objectIdField": "",
 "fields": [],
 "capabilities": "Image,Metadata,Catalog",
 "defaultMosaicMethod": "Northwest",
 "allowedMosaicMethods": "NorthWest,Center,LockRaster,ByAttribute,Nadir,Viewpoint,Seamline,None",
 "sortField": "",
 "sortValue": null,
 "mosaicOperator": "First",
 "defaultCompressionQuality": 75,
 "defaultResamplingMethod": "Bilinear",
 "maxImageHeight": 4100,
 "maxImageWidth": 15000,
 "maxRecordCount": 1000,
 "maxDownloadImageCount": 20,
 "maxDownloadSizeLimit": 2048,
 "maxMosaicImageCount": 20,
 "allowRasterFunction": true,
 "rasterFunctionInfos": [],
 "rasterTypeInfos": [
  {
   "name": "Raster Dataset",
   "description": "Supports all ArcGIS Raster Datasets",
   "help": ""
  }
 ],
 "mensurationCapabilities": "",
 "hasHistograms": true,
 "hasColormap": false,
 "hasRasterAttributeTable": false,
 "minScale": 0,
 "maxScale": 0,
 "exportTilesAllowed": false,
 "supportsStatistics": false,
 "supportsAdvancedQueries": false,
 "editFieldsInfo": null,
 "ownershipBasedAccessControlForRasters": null,
 "allowComputeTiePoints": false,
 "useStandardizedQueries": true,
 "spatialReference": {
  "wkid": 32632,
  "latestWkid": 32632
 }
}
