{
 "currentVersion": 10.21,
 "serviceDescription": "SIAM watch zone",
 "name": "raster/watch_zone",
 "description": "SIAM watch zone",
 "extent": {
  "xmin": -101246.49500000011,
  "ymin": 3930313.362299999,
  "xmax": 800073.5049999999,
  "ymax": 5074003.362299999,
  "spatialReference": {
   "wkid": 32633,
   "latestWkid": 32633
  }
 },
 "initialExtent": {
  "xmin": -101246.49500000011,
  "ymin": 3930313.362299999,
  "xmax": 800073.5049999999,
  "ymax": 5074003.362299999,
  "spatialReference": {
   "wkid": 32633,
   "latestWkid": 32633
  }
 },
 "fullExtent": {
  "xmin": -101246.49500000011,
  "ymin": 3930313.362299999,
  "xmax": 800073.5049999999,
  "ymax": 5074003.362299999,
  "spatialReference": {
   "wkid": 32633,
   "latestWkid": 32633
  }
 },
 "pixelSizeX": 10,
 "pixelSizeY": 10,
 "bandCount": 1,
 "pixelType": "U1",
 "minPixelSize": 0,
 "maxPixelSize": 0,
 "copyrightText": "",
 "serviceDataType": "esriImageServiceDataTypeThematic",
 "minValues": [
  1
 ],
 "maxValues": [
  1
 ],
 "meanValues": [
  1
 ],
 "stdvValues": [
  0
 ],
 "objectIdField": "",
 "fields": [],
 "capabilities": "Image,Metadata,Mensuration",
 "defaultMosaicMethod": "Center",
 "allowedMosaicMethods": "",
 "sortField": "",
 "sortValue": null,
 "mosaicOperator": "First",
 "defaultCompressionQuality": 75,
 "defaultResamplingMethod": "Bilinear",
 "maxImageHeight": 4100,
 "maxImageWidth": 15000,
 "allowRasterFunction": true,
 "rasterFunctionInfos": [],
 "rasterTypeInfos": [
  {
   "name": "Raster Dataset",
   "description": "Supports all ArcGIS Raster Datasets",
   "help": ""
  }
 ],
 "mensurationCapabilities": "Basic",
 "hasHistograms": true,
 "hasColormap": false,
 "hasRasterAttributeTable": true,
 "minScale": 0,
 "maxScale": 0,
 "exportTilesAllowed": false,
 "supportsStatistics": false,
 "supportsAdvancedQueries": false,
 "editFieldsInfo": null,
 "ownershipBasedAccessControlForRasters": null,
 "allowComputeTiePoints": false,
 "useStandardizedQueries": true,
 "spatialReference": {
  "wkid": 32633,
  "latestWkid": 32633
 }
}
