{
 "currentVersion": 10.21,
 "serviceDescription": "Carta geologica del Bacino del Tevere, compilata dal dottor Giovanni Merla in base ai rilievi editi ed inediti del R. Ufficio Geologico, 1944, scala 1:300.000. R. Ufficio Geologico, Roma. Stabilimento cartografico G. Giardi, Firenze. 67x88 cm.",
 "name": "servizi/Carta_geologica_Bacino_Tevere",
 "description": "Carta geologica del Bacino del Tevere, compilata dal dottor Giovanni Merla in base ai rilievi editi ed inediti del R. Ufficio Geologico, 1944, scala 1:300.000. R. Ufficio Geologico, Roma. Stabilimento cartografico G. Giardi, Firenze. 67x88 cm.",
 "extent": {
  "xmin": 1283065.3114612272,
  "ymin": 5092473.163100901,
  "xmax": 1557480.5961432273,
  "ymax": 5455984.319432901,
  "spatialReference": {
   "wkid": 102100,
   "latestWkid": 3857
  }
 },
 "initialExtent": {
  "xmin": 1283065.3114612272,
  "ymin": 5092473.163100901,
  "xmax": 1557480.5961432273,
  "ymax": 5455984.319432901,
  "spatialReference": {
   "wkid": 102100,
   "latestWkid": 3857
  }
 },
 "fullExtent": {
  "xmin": 1283065.3114612272,
  "ymin": 5092473.163100901,
  "xmax": 1557480.5961432273,
  "ymax": 5455984.319432901,
  "spatialReference": {
   "wkid": 102100,
   "latestWkid": 3857
  }
 },
 "pixelSizeX": 154.94934200000003,
 "pixelSizeY": 154.94934200000006,
 "bandCount": 4,
 "pixelType": "U16",
 "minPixelSize": 0,
 "maxPixelSize": 0,
 "copyrightText": "",
 "serviceDataType": "esriImageServiceDataTypeGeneric",
 "minValues": [
  0,
  0,
  0,
  255
 ],
 "maxValues": [
  255,
  255,
  255,
  255
 ],
 "meanValues": [
  157.6401036359,
  148.07134279704,
  94.341814959167,
  255
 ],
 "stdvValues": [
  63.66225950898,
  61.254242956179,
  50.515041202717,
  2.7528007721195E-6
 ],
 "objectIdField": "",
 "fields": [],
 "capabilities": "Image,Metadata,Mensuration",
 "defaultMosaicMethod": "Center",
 "allowedMosaicMethods": "",
 "sortField": "",
 "sortValue": null,
 "mosaicOperator": "First",
 "defaultCompressionQuality": 75,
 "defaultResamplingMethod": "Bilinear",
 "maxImageHeight": 4100,
 "maxImageWidth": 15000,
 "allowRasterFunction": true,
 "rasterFunctionInfos": [],
 "rasterTypeInfos": [
  {
   "name": "Raster Dataset",
   "description": "Supports all ArcGIS Raster Datasets",
   "help": ""
  }
 ],
 "mensurationCapabilities": "Basic",
 "hasHistograms": true,
 "hasColormap": false,
 "hasRasterAttributeTable": false,
 "minScale": 0,
 "maxScale": 0,
 "exportTilesAllowed": false,
 "supportsStatistics": false,
 "supportsAdvancedQueries": false,
 "editFieldsInfo": null,
 "ownershipBasedAccessControlForRasters": null,
 "allowComputeTiePoints": false,
 "useStandardizedQueries": true,
 "spatialReference": {
  "wkid": 102100,
  "latestWkid": 3857
 }
}
