{
 "currentVersion": 10.21,
 "serviceDescription": "Carta geologica dei Vulcani Cimini, di Venturino Sabatini, 1912, scala 1:75.000. Stab. L. Salomone, Roma. 59 x 64 cm. In: Venturino Sabatini (1912), I vulcani dell'Italia centrale e i loro prodotti: Vulcani Cimini. Memorie Descrittive della Carta Geologica d'Italia,vol.15, R. Ufficio Geologico.",
 "name": "servizi/Carta_geologica_Vulcani_Cimini",
 "description": "Carta geologica dei Vulcani Cimini, di Venturino Sabatini, 1912, scala 1:75.000. Stab. L. Salomone, Roma. 59 x 64 cm. In: Venturino Sabatini (1912), I vulcani dell'Italia centrale e i loro prodotti: Vulcani Cimini. Memorie Descrittive della Carta Geologica d'Italia,vol.15, R. Ufficio Geologico.",
 "extent": {
  "xmin": 1323313.6502898792,
  "ymin": 5183016.884274625,
  "xmax": 1391845.811233879,
  "ymax": 5243846.638818625,
  "spatialReference": {
   "wkid": 102100,
   "latestWkid": 3857
  }
 },
 "initialExtent": {
  "xmin": 1323313.6502898792,
  "ymin": 5183016.884274625,
  "xmax": 1391845.811233879,
  "ymax": 5243846.638818625,
  "spatialReference": {
   "wkid": 102100,
   "latestWkid": 3857
  }
 },
 "fullExtent": {
  "xmin": 1323313.6502898792,
  "ymin": 5183016.884274625,
  "xmax": 1391845.811233879,
  "ymax": 5243846.638818625,
  "spatialReference": {
   "wkid": 102100,
   "latestWkid": 3857
  }
 },
 "pixelSizeX": 6.418671999999989,
 "pixelSizeY": 6.418672000000015,
 "bandCount": 3,
 "pixelType": "U16",
 "minPixelSize": 0,
 "maxPixelSize": 0,
 "copyrightText": "",
 "serviceDataType": "esriImageServiceDataTypeGeneric",
 "minValues": [
  0,
  0,
  0
 ],
 "maxValues": [
  255,
  255,
  255
 ],
 "meanValues": [
  164.11229923643,
  128.24983985837,
  92.432220295699
 ],
 "stdvValues": [
  56.509205365319,
  68.865155600862,
  76.52080539574
 ],
 "objectIdField": "",
 "fields": [],
 "capabilities": "Image,Metadata,Mensuration",
 "defaultMosaicMethod": "Center",
 "allowedMosaicMethods": "",
 "sortField": "",
 "sortValue": null,
 "mosaicOperator": "First",
 "defaultCompressionQuality": 75,
 "defaultResamplingMethod": "Bilinear",
 "maxImageHeight": 4100,
 "maxImageWidth": 15000,
 "allowRasterFunction": true,
 "rasterFunctionInfos": [],
 "rasterTypeInfos": [
  {
   "name": "Raster Dataset",
   "description": "Supports all ArcGIS Raster Datasets",
   "help": ""
  }
 ],
 "mensurationCapabilities": "Basic",
 "hasHistograms": true,
 "hasColormap": false,
 "hasRasterAttributeTable": false,
 "minScale": 0,
 "maxScale": 0,
 "exportTilesAllowed": false,
 "supportsStatistics": false,
 "supportsAdvancedQueries": false,
 "editFieldsInfo": null,
 "ownershipBasedAccessControlForRasters": null,
 "allowComputeTiePoints": false,
 "useStandardizedQueries": true,
 "spatialReference": {
  "wkid": 102100,
  "latestWkid": 3857
 }
}
