{
 "currentVersion": 10.21,
 "serviceDescription": "Vulcani Vulsini: geologia e bocche eruttive, a cura di Pompeo Moderni, 1904, scala 1:100.000. Roma. 61 x 67 cm. In: P. Moderni (1903-1904), Contribuzione allo studio geologico dei Vulcani Vulsini, Bollettino del R. Comitato Geologico d\u2019Italia, vol. 34 (1903) e vol. 35 (1904).",
 "name": "servizi/Carta_geologica_Vulsini",
 "description": "Vulcani Vulsini: geologia e bocche eruttive, a cura di Pompeo Moderni, 1904, scala 1:100.000. Roma. 61 x 67 cm. In: P. Moderni (1903-1904), Contribuzione allo studio geologico dei Vulcani Vulsini, Bollettino del R. Comitato Geologico d\u2019Italia, vol. 34 (1903) e vol. 35 (1904).",
 "extent": {
  "xmin": 1279632.1758516682,
  "ymin": 5203799.38204684,
  "xmax": 1372537.9147636683,
  "ymax": 5289976.5072148405,
  "spatialReference": {
   "wkid": 102100,
   "latestWkid": 3857
  }
 },
 "initialExtent": {
  "xmin": 1279632.1758516682,
  "ymin": 5203799.38204684,
  "xmax": 1372537.9147636683,
  "ymax": 5289976.5072148405,
  "spatialReference": {
   "wkid": 102100,
   "latestWkid": 3857
  }
 },
 "fullExtent": {
  "xmin": 1279632.1758516682,
  "ymin": 5203799.38204684,
  "xmax": 1372537.9147636683,
  "ymax": 5289976.5072148405,
  "spatialReference": {
   "wkid": 102100,
   "latestWkid": 3857
  }
 },
 "pixelSizeX": 23.12238400000002,
 "pixelSizeY": 23.122384000000093,
 "bandCount": 3,
 "pixelType": "U16",
 "minPixelSize": 0,
 "maxPixelSize": 0,
 "copyrightText": "",
 "serviceDataType": "esriImageServiceDataTypeGeneric",
 "minValues": [
  0,
  0,
  0
 ],
 "maxValues": [
  255,
  253,
  255
 ],
 "meanValues": [
  146.90776620592,
  117.99613734221,
  82.940279911856
 ],
 "stdvValues": [
  57.508253660865,
  53.830228401653,
  40.321691118293
 ],
 "objectIdField": "",
 "fields": [],
 "capabilities": "Image,Metadata,Mensuration",
 "defaultMosaicMethod": "Center",
 "allowedMosaicMethods": "",
 "sortField": "",
 "sortValue": null,
 "mosaicOperator": "First",
 "defaultCompressionQuality": 75,
 "defaultResamplingMethod": "Bilinear",
 "maxImageHeight": 4100,
 "maxImageWidth": 15000,
 "allowRasterFunction": true,
 "rasterFunctionInfos": [],
 "rasterTypeInfos": [
  {
   "name": "Raster Dataset",
   "description": "Supports all ArcGIS Raster Datasets",
   "help": ""
  }
 ],
 "mensurationCapabilities": "Basic",
 "hasHistograms": true,
 "hasColormap": false,
 "hasRasterAttributeTable": false,
 "minScale": 0,
 "maxScale": 0,
 "exportTilesAllowed": false,
 "supportsStatistics": false,
 "supportsAdvancedQueries": false,
 "editFieldsInfo": null,
 "ownershipBasedAccessControlForRasters": null,
 "allowComputeTiePoints": false,
 "useStandardizedQueries": true,
 "spatialReference": {
  "wkid": 102100,
  "latestWkid": 3857
 }
}
