{
 "currentVersion": 10.21,
 "serviceDescription": "",
 "name": "servizi/Carta_geologica_dintorni_Roma_destra_Tevere_2",
 "description": "servizi/Carta_geologica_dintorni_Roma_destra_Tevere_2",
 "extent": {
  "xmin": 1378558.6779370615,
  "ymin": 5144462.243420851,
  "xmax": 1391257.3657318384,
  "ymax": 5159640.193832396,
  "spatialReference": {
   "wkid": 102100,
   "latestWkid": 3857
  }
 },
 "initialExtent": {
  "xmin": 1378558.6779370615,
  "ymin": 5144462.243420851,
  "xmax": 1391257.3657318384,
  "ymax": 5159640.193832396,
  "spatialReference": {
   "wkid": 102100,
   "latestWkid": 3857
  }
 },
 "fullExtent": {
  "xmin": 1378558.6779370615,
  "ymin": 5144462.243420851,
  "xmax": 1391257.3657318384,
  "ymax": 5159640.193832396,
  "spatialReference": {
   "wkid": 102100,
   "latestWkid": 3857
  }
 },
 "pixelSizeX": 1.3005620437092242,
 "pixelSizeY": 1.285069038315484,
 "bandCount": 3,
 "pixelType": "U8",
 "minPixelSize": 0,
 "maxPixelSize": 0,
 "copyrightText": "",
 "serviceDataType": "esriImageServiceDataTypeRGB",
 "minValues": [],
 "maxValues": [],
 "meanValues": [],
 "stdvValues": [],
 "objectIdField": "",
 "fields": [],
 "capabilities": "Image,Metadata,Mensuration",
 "defaultMosaicMethod": "Center",
 "allowedMosaicMethods": "",
 "sortField": "",
 "sortValue": null,
 "mosaicOperator": "First",
 "defaultCompressionQuality": 75,
 "defaultResamplingMethod": "Bilinear",
 "maxImageHeight": 4100,
 "maxImageWidth": 15000,
 "allowRasterFunction": true,
 "rasterFunctionInfos": [],
 "rasterTypeInfos": [
  {
   "name": "Raster Dataset",
   "description": "Supports all ArcGIS Raster Datasets",
   "help": ""
  }
 ],
 "mensurationCapabilities": "Basic",
 "hasHistograms": false,
 "hasColormap": false,
 "hasRasterAttributeTable": false,
 "minScale": 0,
 "maxScale": 0,
 "exportTilesAllowed": false,
 "supportsStatistics": false,
 "supportsAdvancedQueries": false,
 "editFieldsInfo": null,
 "ownershipBasedAccessControlForRasters": null,
 "allowComputeTiePoints": false,
 "useStandardizedQueries": true,
 "spatialReference": {
  "wkid": 102100,
  "latestWkid": 3857
 }
}
