{
 "currentVersion": 10.21,
 "serviceDescription": "Lidar Arquata",
 "name": "servizi/HS_LiDAR_ARQUATA",
 "description": "Lidar Arquata",
 "extent": {
  "xmin": 355147.0000010983,
  "ymin": 4732200.000117428,
  "xmax": 362181.0000010983,
  "ymax": 4740477.000117428,
  "spatialReference": {
   "wkid": 32633,
   "latestWkid": 32633
  }
 },
 "initialExtent": {
  "xmin": 355147.0000010983,
  "ymin": 4732200.000117428,
  "xmax": 362181.0000010983,
  "ymax": 4740477.000117428,
  "spatialReference": {
   "wkid": 32633,
   "latestWkid": 32633
  }
 },
 "fullExtent": {
  "xmin": 355147.0000010983,
  "ymin": 4732200.000117428,
  "xmax": 362181.0000010983,
  "ymax": 4740477.000117428,
  "spatialReference": {
   "wkid": 32633,
   "latestWkid": 32633
  }
 },
 "pixelSizeX": 1,
 "pixelSizeY": 1,
 "bandCount": 1,
 "pixelType": "U8",
 "minPixelSize": 0,
 "maxPixelSize": 0,
 "copyrightText": "",
 "serviceDataType": "esriImageServiceDataTypeGeneric",
 "minValues": [
  0
 ],
 "maxValues": [
  254
 ],
 "meanValues": [
  148.17215671328
 ],
 "stdvValues": [
  62.672131560674
 ],
 "objectIdField": "",
 "fields": [],
 "capabilities": "Image,Metadata,Mensuration",
 "defaultMosaicMethod": "Center",
 "allowedMosaicMethods": "",
 "sortField": "",
 "sortValue": null,
 "mosaicOperator": "First",
 "defaultCompressionQuality": 75,
 "defaultResamplingMethod": "Bilinear",
 "maxImageHeight": 4100,
 "maxImageWidth": 15000,
 "allowRasterFunction": true,
 "rasterFunctionInfos": [],
 "rasterTypeInfos": [
  {
   "name": "Raster Dataset",
   "description": "Supports all ArcGIS Raster Datasets",
   "help": ""
  }
 ],
 "mensurationCapabilities": "Basic",
 "hasHistograms": true,
 "hasColormap": false,
 "hasRasterAttributeTable": false,
 "minScale": 0,
 "maxScale": 0,
 "exportTilesAllowed": false,
 "supportsStatistics": false,
 "supportsAdvancedQueries": false,
 "editFieldsInfo": null,
 "ownershipBasedAccessControlForRasters": null,
 "allowComputeTiePoints": false,
 "useStandardizedQueries": true,
 "spatialReference": {
  "wkid": 32633,
  "latestWkid": 32633
 }
}
