View In:
ArcGIS JavaScript
ArcGIS.com Map
Google Earth
ArcMap
View Footprint In:
ArcGIS.com Map
Service Description:
Name: Bronte_Isola_di_Sicilia_f261
Description: Bronte_Isola_di_Sicilia_f261
Single Fused Map Cache: false
Extent:
XMin: 1589214.1542634915
YMin: 4511139.242776642
XMax: 1683382.7488787796
YMax: 4592768.8372899955
Spatial Reference: 102100
(3857)
Initial Extent:
XMin: 1589214.1542634915
YMin: 4511139.242776642
XMax: 1683382.7488787796
YMax: 4592768.8372899955
Spatial Reference: 102100
(3857)
Full Extent:
XMin: 1589214.1542634915
YMin: 4511139.242776642
XMax: 1683382.7488787796
YMax: 4592768.8372899955
Spatial Reference: 102100
(3857)
Pixel Size X: 21.84379369410533
Pixel Size Y: 21.595130823638595
Band Count: 3
Pixel Type: U8
RasterFunction Infos: N/A
Mensuration Capabilities: Basic
Has Histograms: false
Has Colormap: false
Min Scale: 0
Max Scale: 0
Copyright Text:
Service Data Type: esriImageServiceDataTypeRGB
Min Values: N/A
Max Values: N/A
Mean Values: N/A
Standard Deviation Values: N/A
Object ID Field:
Fields:
None
Default Mosaic Method: Center
Allowed Mosaic Methods:
SortField:
SortValue: null
Mosaic Operator: First
Default Compression Quality: 75
Default Resampling Method: Bilinear
Max Record Count: null
Max Image Height: 4100
Max Image Width: 15000
Max Download Image Count: null
Max Mosaic Image Count: null
Allow Raster Function: true
Allow Compute TiePoints: false
Supports Statistics: false
Supports Advanced Queries: false
Use StandardizedQueries: true
Raster Type Infos:
Name: Raster Dataset
Description: Supports all ArcGIS Raster Datasets
Help:
Has Raster Attribute Table: false
Edit Fields Info: null
Ownership Based AccessControl For Rasters: null
Child Resources:
Info
Key Properties
Legend
Supported Operations:
Export Image
Identify
Measure
Compute Histograms
Get Samples
Compute Class Statistics