View In:
ArcGIS JavaScript
ArcGIS.com Map
Google Earth
ArcMap
View Footprint In:
ArcGIS.com Map
Service Description:
Name: carta_agronomica_etna
Description: carta_agronomica_etna
Single Fused Map Cache: false
Extent:
XMin: 1637911.3857493103
YMin: 4486092.271140796
XMax: 1705925.3866049123
YMax: 4585010.944782228
Spatial Reference: 102100
(3857)
Initial Extent:
XMin: 1637911.3857493103
YMin: 4486092.271140796
XMax: 1705925.3866049123
YMax: 4585010.944782228
Spatial Reference: 102100
(3857)
Full Extent:
XMin: 1637911.3857493103
YMin: 4486092.271140796
XMax: 1705925.3866049123
YMax: 4585010.944782228
Spatial Reference: 102100
(3857)
Pixel Size X: 16.460309984414835
Pixel Size Y: 16.613818213206596
Band Count: 3
Pixel Type: U8
RasterFunction Infos: N/A
Mensuration Capabilities: Basic
Has Histograms: false
Has Colormap: false
Min Scale: 0
Max Scale: 0
Copyright Text:
Service Data Type: esriImageServiceDataTypeRGB
Min Values: N/A
Max Values: N/A
Mean Values: N/A
Standard Deviation Values: N/A
Object ID Field:
Fields:
None
Default Mosaic Method: Center
Allowed Mosaic Methods:
SortField:
SortValue: null
Mosaic Operator: First
Default Compression Quality: 75
Default Resampling Method: Bilinear
Max Record Count: null
Max Image Height: 4100
Max Image Width: 15000
Max Download Image Count: null
Max Mosaic Image Count: null
Allow Raster Function: true
Allow Compute TiePoints: false
Supports Statistics: false
Supports Advanced Queries: false
Use StandardizedQueries: true
Raster Type Infos:
Name: Raster Dataset
Description: Supports all ArcGIS Raster Datasets
Help:
Has Raster Attribute Table: false
Edit Fields Info: null
Ownership Based AccessControl For Rasters: null
Child Resources:
Info
Key Properties
Legend
Supported Operations:
Export Image
Identify
Measure
Compute Histograms
Get Samples
Compute Class Statistics