View In:
ArcGIS JavaScript
ArcGIS.com Map
Google Earth
ArcMap
View Footprint In:
ArcGIS.com Map
Service Description: SIAM advisory zone
Name: raster/advisory_zone
Description: SIAM advisory zone
Single Fused Map Cache: false
Extent:
XMin: -101246.49500000011
YMin: 4055393.1337
XMax: 800073.5049999999
YMax: 5073403.1337
Spatial Reference: 32633
(32633)
Initial Extent:
XMin: -101246.49500000011
YMin: 4055393.1337
XMax: 800073.5049999999
YMax: 5073403.1337
Spatial Reference: 32633
(32633)
Full Extent:
XMin: -101246.49500000011
YMin: 4055393.1337
XMax: 800073.5049999999
YMax: 5073403.1337
Spatial Reference: 32633
(32633)
Pixel Size X: 10.0
Pixel Size Y: 10.0
Band Count: 1
Pixel Type: U1
RasterFunction Infos: N/A
Mensuration Capabilities: Basic
Has Histograms: true
Has Colormap: false
Min Scale: 0
Max Scale: 0
Copyright Text:
Service Data Type: esriImageServiceDataTypeThematic
Min Values: 1
Max Values: 1
Mean Values: 1
Standard Deviation Values: 0
Object ID Field:
Fields:
None
Default Mosaic Method: Center
Allowed Mosaic Methods:
SortField:
SortValue: null
Mosaic Operator: First
Default Compression Quality: 75
Default Resampling Method: Bilinear
Max Record Count: null
Max Image Height: 4100
Max Image Width: 15000
Max Download Image Count: null
Max Mosaic Image Count: null
Allow Raster Function: true
Allow Compute TiePoints: false
Supports Statistics: false
Supports Advanced Queries: false
Use StandardizedQueries: true
Raster Type Infos:
Name: Raster Dataset
Description: Supports all ArcGIS Raster Datasets
Help:
Has Raster Attribute Table: true
Edit Fields Info: null
Ownership Based AccessControl For Rasters: null
Child Resources:
Info
Raster Attribute Table
Histograms
Key Properties
Legend
Supported Operations:
Export Image
Identify
Measure
Compute Histograms
Get Samples
Compute Class Statistics