View In:
ArcGIS JavaScript
ArcGIS.com Map
Google Earth
ArcMap
View Footprint In:
ArcGIS.com Map
Service Description:
Name: raster/geo_1000k_italia
Description: raster/geo_1000k_italia
Single Fused Map Cache: false
Extent:
XMin: 692912.691971433
YMin: 4171347.527295956
XMax: 2170327.997216602
YMax: 6076651.412979445
Spatial Reference: 102100
(3857)
Initial Extent:
XMin: 692912.691971433
YMin: 4171347.527295956
XMax: 2170327.997216602
YMax: 6076651.412979445
Spatial Reference: 102100
(3857)
Full Extent:
XMin: 692912.691971433
YMin: 4171347.527295956
XMax: 2170327.997216602
YMax: 6076651.412979445
Spatial Reference: 102100
(3857)
Pixel Size X: 125.0774894382974
Pixel Size Y: 115.22157025178335
Band Count: 3
Pixel Type: U8
RasterFunction Infos: N/A
Mensuration Capabilities: Basic
Has Histograms: true
Has Colormap: false
Min Scale: 0
Max Scale: 0
Copyright Text:
Service Data Type: esriImageServiceDataTypeRGB
Min Values: 0, 0, 0
Max Values: 255, 255, 255
Mean Values: 218.26713031239, 224.20019827888, 216.29029406412
Standard Deviation Values: 57.788173580103, 50.92979250042, 65.168815520906
Object ID Field:
Fields:
None
Default Mosaic Method: Center
Allowed Mosaic Methods:
SortField:
SortValue: null
Mosaic Operator: First
Default Compression Quality: 75
Default Resampling Method: Bilinear
Max Record Count: null
Max Image Height: 4100
Max Image Width: 15000
Max Download Image Count: null
Max Mosaic Image Count: null
Allow Raster Function: true
Allow Compute TiePoints: false
Supports Statistics: false
Supports Advanced Queries: false
Use StandardizedQueries: true
Raster Type Infos:
Name: Raster Dataset
Description: Supports all ArcGIS Raster Datasets
Help:
Has Raster Attribute Table: false
Edit Fields Info: null
Ownership Based AccessControl For Rasters: null
Child Resources:
Info
Histograms
Key Properties
Legend
Supported Operations:
Export Image
Identify
Measure
Compute Histograms
Get Samples
Compute Class Statistics