View In:
ArcGIS JavaScript
ArcGIS.com Map
Google Earth
ArcMap
View Footprint In:
ArcGIS.com Map
Service Description: Shaded relief italiano derivato dal modello digitale img a 20m
Name: raster/shd_20m_33
Description: Shaded relief italiano derivato dal modello digitale img a 20m
Single Fused Map Cache: false
Extent:
XMin: -235106.28305566916
YMin: 3894052.5517866164
XMax: 900073.7169443308
YMax: 5303552.551786616
Spatial Reference: 32633
(32633)
Initial Extent:
XMin: -235106.28305566916
YMin: 3894052.5517866164
XMax: 900073.7169443308
YMax: 5303552.551786616
Spatial Reference: 32633
(32633)
Full Extent:
XMin: -235106.28305566916
YMin: 3894052.5517866164
XMax: 900073.7169443308
YMax: 5303552.551786616
Spatial Reference: 32633
(32633)
Pixel Size X: 20.0
Pixel Size Y: 20.0
Band Count: 1
Pixel Type: U8
RasterFunction Infos: N/A
Mensuration Capabilities: Basic
Has Histograms: true
Has Colormap: false
Min Scale: 0
Max Scale: 0
Copyright Text:
Service Data Type: esriImageServiceDataTypeGeneric
Min Values: 0
Max Values: 254
Mean Values: 157.4523650744371
Standard Deviation Values: 61.52539112889433
Object ID Field:
Fields:
None
Default Mosaic Method: Center
Allowed Mosaic Methods:
SortField:
SortValue: null
Mosaic Operator: First
Default Compression Quality: 75
Default Resampling Method: Bilinear
Max Record Count: null
Max Image Height: 4100
Max Image Width: 15000
Max Download Image Count: null
Max Mosaic Image Count: null
Allow Raster Function: true
Allow Compute TiePoints: false
Supports Statistics: false
Supports Advanced Queries: false
Use StandardizedQueries: true
Raster Type Infos:
Name: Raster Dataset
Description: Supports all ArcGIS Raster Datasets
Help:
Has Raster Attribute Table: true
Edit Fields Info: null
Ownership Based AccessControl For Rasters: null
Child Resources:
Info
Raster Attribute Table
Histograms
Key Properties
Legend
Supported Operations:
Export Image
Identify
Measure
Compute Histograms
Get Samples
Compute Class Statistics