View In:
ArcGIS JavaScript
ArcGIS.com Map
Google Earth
ArcMap
View Footprint In:
ArcGIS.com Map
Service Description:
Name: servizi/Carta_geologica_Agropontino
Description: servizi/Carta_geologica_Agropontino
Single Fused Map Cache: false
Extent:
XMin: 1380066.1147777848
YMin: 5005863.4304443225
XMax: 1537825.7673997849
YMax: 5150317.649342323
Spatial Reference: 102100
(3857)
Initial Extent:
XMin: 1380066.1147777848
YMin: 5005863.4304443225
XMax: 1537825.7673997849
YMax: 5150317.649342323
Spatial Reference: 102100
(3857)
Full Extent:
XMin: 1380066.1147777848
YMin: 5005863.4304443225
XMax: 1537825.7673997849
YMax: 5150317.649342323
Spatial Reference: 102100
(3857)
Pixel Size X: 33.43073800000002
Pixel Size Y: 33.43073800000005
Band Count: 3
Pixel Type: U16
RasterFunction Infos: N/A
Mensuration Capabilities: Basic
Has Histograms: true
Has Colormap: false
Min Scale: 0
Max Scale: 0
Copyright Text:
Service Data Type: esriImageServiceDataTypeGeneric
Min Values: 0, 0, 0
Max Values: 255, 255, 255
Mean Values: 196.46971826947, 184.19848920439, 146.03761654632
Standard Deviation Values: 69.615230566013, 65.854209160774, 65.16808755934
Object ID Field:
Fields:
None
Default Mosaic Method: Center
Allowed Mosaic Methods:
SortField:
SortValue: null
Mosaic Operator: First
Default Compression Quality: 75
Default Resampling Method: Bilinear
Max Record Count: null
Max Image Height: 4100
Max Image Width: 15000
Max Download Image Count: null
Max Mosaic Image Count: null
Allow Raster Function: true
Allow Compute TiePoints: false
Supports Statistics: false
Supports Advanced Queries: false
Use StandardizedQueries: true
Raster Type Infos:
Name: Raster Dataset
Description: Supports all ArcGIS Raster Datasets
Help:
Has Raster Attribute Table: false
Edit Fields Info: null
Ownership Based AccessControl For Rasters: null
Child Resources:
Info
Histograms
Key Properties
Legend
Supported Operations:
Export Image
Identify
Measure
Compute Histograms
Get Samples
Compute Class Statistics