View In:
ArcGIS JavaScript
ArcGIS.com Map
Google Earth
ArcMap
View Footprint In:
ArcGIS.com Map
Service Description:
Name: servizi/Carta_geologica_Vulcano_Laziale
Description: servizi/Carta_geologica_Vulcano_Laziale
Single Fused Map Cache: false
Extent:
XMin: 1360712.545175294
YMin: 5095158.832366605
XMax: 1466624.4000863167
YMax: 5163991.262005577
Spatial Reference: 102100
(3857)
Initial Extent:
XMin: 1360712.545175294
YMin: 5095158.832366605
XMax: 1466624.4000863167
YMax: 5163991.262005577
Spatial Reference: 102100
(3857)
Full Extent:
XMin: 1360712.545175294
YMin: 5095158.832366605
XMax: 1466624.4000863167
YMax: 5163991.262005577
Spatial Reference: 102100
(3857)
Pixel Size X: 17.126755321963586
Pixel Size Y: 17.126755321963568
Band Count: 3
Pixel Type: U16
RasterFunction Infos: N/A
Mensuration Capabilities: Basic
Has Histograms: true
Has Colormap: false
Min Scale: 0
Max Scale: 0
Copyright Text:
Service Data Type: esriImageServiceDataTypeGeneric
Min Values: 0, 0, 0
Max Values: 255, 255, 255
Mean Values: 171.47511210159, 143.81272559322, 104.50613316417
Standard Deviation Values: 63.080310215009, 63.592901130874, 54.81608020036
Object ID Field:
Fields:
None
Default Mosaic Method: Center
Allowed Mosaic Methods:
SortField:
SortValue: null
Mosaic Operator: First
Default Compression Quality: 75
Default Resampling Method: Bilinear
Max Record Count: null
Max Image Height: 4100
Max Image Width: 15000
Max Download Image Count: null
Max Mosaic Image Count: null
Allow Raster Function: true
Allow Compute TiePoints: false
Supports Statistics: false
Supports Advanced Queries: false
Use StandardizedQueries: true
Raster Type Infos:
Name: Raster Dataset
Description: Supports all ArcGIS Raster Datasets
Help:
Has Raster Attribute Table: false
Edit Fields Info: null
Ownership Based AccessControl For Rasters: null
Child Resources:
Info
Histograms
Key Properties
Legend
Supported Operations:
Export Image
Identify
Measure
Compute Histograms
Get Samples
Compute Class Statistics