View In:
ArcGIS JavaScript
ArcGIS.com Map
Google Earth
ArcMap
View Footprint In:
ArcGIS.com Map
Service Description:
Name: servizi/carta_geologica_isole_ponziane
Description: servizi/carta_geologica_isole_ponziane
Single Fused Map Cache: false
Extent:
XMin: 1422262.7659937309
YMin: 4987795.739292534
XMax: 1462208.804950073
YMax: 5014934.429804038
Spatial Reference: 102100
(3857)
Initial Extent:
XMin: 1422262.7659937309
YMin: 4987795.739292534
XMax: 1462208.804950073
YMax: 5014934.429804038
Spatial Reference: 102100
(3857)
Full Extent:
XMin: 1422262.7659937309
YMin: 4987795.739292534
XMax: 1462208.804950073
YMax: 5014934.429804038
Spatial Reference: 102100
(3857)
Pixel Size X: 8.597942091334918
Pixel Size Y: 8.59635429569344
Band Count: 3
Pixel Type: U16
RasterFunction Infos: N/A
Mensuration Capabilities: Basic
Has Histograms: true
Has Colormap: false
Min Scale: 0
Max Scale: 0
Copyright Text:
Service Data Type: esriImageServiceDataTypeGeneric
Min Values: 0, 0, 0
Max Values: 255, 255, 255
Mean Values: 225.29277685375, 190.40875575293, 140.44349347837
Standard Deviation Values: 26.623064982302, 26.999453963984, 33.031096159335
Object ID Field:
Fields:
None
Default Mosaic Method: Center
Allowed Mosaic Methods:
SortField:
SortValue: null
Mosaic Operator: First
Default Compression Quality: 75
Default Resampling Method: Bilinear
Max Record Count: null
Max Image Height: 4100
Max Image Width: 15000
Max Download Image Count: null
Max Mosaic Image Count: null
Allow Raster Function: true
Allow Compute TiePoints: false
Supports Statistics: false
Supports Advanced Queries: false
Use StandardizedQueries: true
Raster Type Infos:
Name: Raster Dataset
Description: Supports all ArcGIS Raster Datasets
Help:
Has Raster Attribute Table: false
Edit Fields Info: null
Ownership Based AccessControl For Rasters: null
Child Resources:
Info
Histograms
Key Properties
Legend
Supported Operations:
Export Image
Identify
Measure
Compute Histograms
Get Samples
Compute Class Statistics