View In:
ArcGIS JavaScript
ArcGIS.com Map
Google Earth
ArcMap
View Footprint In:
ArcGIS.com Map
Service Description:
Name: Carta_Monte_Etna_e_monti_di_eruzione
Description: Carta_Monte_Etna_e_monti_di_eruzione
Single Fused Map Cache: false
Extent:
XMin: 1625178.5248475452
YMin: 4489392.824189714
XMax: 1728585.6643596434
YMax: 4589461.819713575
Spatial Reference: 102100
(3857)
Initial Extent:
XMin: 1625178.5248475452
YMin: 4489392.824189714
XMax: 1728585.6643596434
YMax: 4589461.819713575
Spatial Reference: 102100
(3857)
Full Extent:
XMin: 1625178.5248475452
YMin: 4489392.824189714
XMax: 1728585.6643596434
YMax: 4589461.819713575
Spatial Reference: 102100
(3857)
Pixel Size X: 15.233815484987943
Pixel Size Y: 18.89163593050041
Band Count: 3
Pixel Type: U8
RasterFunction Infos: N/A
Mensuration Capabilities: Basic
Has Histograms: false
Has Colormap: false
Min Scale: 0
Max Scale: 0
Copyright Text:
Service Data Type: esriImageServiceDataTypeRGB
Min Values: N/A
Max Values: N/A
Mean Values: N/A
Standard Deviation Values: N/A
Object ID Field:
Fields:
None
Default Mosaic Method: Center
Allowed Mosaic Methods:
SortField:
SortValue: null
Mosaic Operator: First
Default Compression Quality: 75
Default Resampling Method: Bilinear
Max Record Count: null
Max Image Height: 4100
Max Image Width: 15000
Max Download Image Count: null
Max Mosaic Image Count: null
Allow Raster Function: true
Allow Compute TiePoints: false
Supports Statistics: false
Supports Advanced Queries: false
Use StandardizedQueries: true
Raster Type Infos:
Name: Raster Dataset
Description: Supports all ArcGIS Raster Datasets
Help:
Has Raster Attribute Table: false
Edit Fields Info: null
Ownership Based AccessControl For Rasters: null
Child Resources:
Info
Key Properties
Legend
Supported Operations:
Export Image
Identify
Measure
Compute Histograms
Get Samples
Compute Class Statistics