View In:
ArcGIS JavaScript
ArcGIS.com Map
Google Earth
ArcMap
View Footprint In:
ArcGIS.com Map
Service Description: CTR comune di roma alla scala 1:5.000
Name: raster/ctr_roma_5k_WGS84_F33
Description: CTR comune di roma alla scala 1:5.000
Single Fused Map Cache: false
Extent:
XMin: 268245.1786851686
YMin: 4614740.100309689
XMax: 324244.42166966863
YMax: 4669757.100983378
Spatial Reference: 32633
(32633)
Initial Extent:
XMin: 268245.1786851686
YMin: 4614740.100309689
XMax: 324244.42166966863
YMax: 4669757.100983378
Spatial Reference: 32633
(32633)
Full Extent:
XMin: 268245.1786851686
YMin: 4614740.100309689
XMax: 324244.42166966863
YMax: 4669757.100983378
Spatial Reference: 32633
(32633)
Pixel Size X: 0.4233803063840566
Pixel Size Y: 0.42338030638405616
Band Count: 1
Pixel Type: U8
RasterFunction Infos: N/A
Mensuration Capabilities: Basic
Has Histograms: true
Has Colormap: false
Min Scale: 16000
Max Scale: 2000
Copyright Text:
Service Data Type: esriImageServiceDataTypeGeneric
Min Values: 0
Max Values: 255
Mean Values: 167.85767507785
Standard Deviation Values: 113.31963424508
Object ID Field:
Fields:
None
Default Mosaic Method: Center
Allowed Mosaic Methods:
SortField:
SortValue: null
Mosaic Operator: First
Default Compression Quality: 75
Default Resampling Method: Bilinear
Max Record Count: null
Max Image Height: 4100
Max Image Width: 15000
Max Download Image Count: null
Max Mosaic Image Count: null
Allow Raster Function: true
Allow Compute TiePoints: false
Supports Statistics: false
Supports Advanced Queries: false
Use StandardizedQueries: true
Raster Type Infos:
Name: Raster Dataset
Description: Supports all ArcGIS Raster Datasets
Help:
Has Raster Attribute Table: false
Edit Fields Info: null
Ownership Based AccessControl For Rasters: null
Child Resources:
Info
Histograms
Key Properties
Legend
Supported Operations:
Export Image
Identify
Measure
Compute Histograms
Get Samples
Compute Class Statistics
EstimateExportTilesSize
ExportTiles