View In:
ArcGIS JavaScript
ArcGIS.com Map
Google Earth
ArcMap
View Footprint In:
ArcGIS.com Map
Service Description: Modello strutturale italiano alla scala 1:500,000 del CNR
Name: raster/stru_500k_italia
Description: Modello strutturale italiano alla scala 1:500,000 del CNR
Single Fused Map Cache: false
Extent:
XMin: 218302.89559366278
YMin: 3924751.690099008
XMax: 1324054.6628867753
YMax: 5345758.779358019
Spatial Reference: 32632
(32632)
Initial Extent:
XMin: 218302.89559366278
YMin: 3924751.690099008
XMax: 1324054.6628867753
YMax: 5345758.779358019
Spatial Reference: 32632
(32632)
Full Extent:
XMin: 218302.89559366278
YMin: 3924751.690099008
XMax: 1324054.6628867753
YMax: 5345758.779358019
Spatial Reference: 32632
(32632)
Pixel Size X: 65.4329704297954
Pixel Size Y: 64.8269657508673
Band Count: 3
Pixel Type: U8
RasterFunction Infos: N/A
Mensuration Capabilities:
Has Histograms: true
Has Colormap: false
Min Scale: 0
Max Scale: 0
Copyright Text:
Service Data Type: esriImageServiceDataTypeRGB
Min Values: 0, 0, 0
Max Values: 255, 255, 255
Mean Values: 220.39887470364, 226.0478842682, 190.78180225836
Standard Deviation Values: 52.070508057244, 44.131085139644, 56.775549303015
Object ID Field:
Fields:
None
Default Mosaic Method: Northwest
Allowed Mosaic Methods: NorthWest,Center,LockRaster,ByAttribute,Nadir,Viewpoint,Seamline,None
SortField:
SortValue: null
Mosaic Operator: First
Default Compression Quality: 75
Default Resampling Method: Bilinear
Max Record Count: 1000
Max Image Height: 4100
Max Image Width: 15000
Max Download Image Count: 20
Max Mosaic Image Count: 20
Allow Raster Function: true
Allow Compute TiePoints: false
Supports Statistics: false
Supports Advanced Queries: false
Use StandardizedQueries: true
Raster Type Infos:
Name: Raster Dataset
Description: Supports all ArcGIS Raster Datasets
Help:
Has Raster Attribute Table: false
Edit Fields Info: null
Ownership Based AccessControl For Rasters: null
Child Resources:
Info
Histograms
Key Properties
Legend
Supported Operations:
Export Image
Query
Identify
Compute Histograms
Get Samples
Compute Class Statistics