View In:
ArcGIS JavaScript
ArcGIS.com Map
Google Earth
ArcMap
View Footprint In:
ArcGIS.com Map
Service Description: Carta geologica del Bacino del Tevere, compilata dal dottor Giovanni Merla in base ai rilievi editi ed inediti del R. Ufficio Geologico, 1944, scala 1:300.000. R. Ufficio Geologico, Roma. Stabilimento cartografico G. Giardi, Firenze. 67x88 cm.
Name: servizi/Carta_geologica_Bacino_Tevere
Description: Carta geologica del Bacino del Tevere, compilata dal dottor Giovanni Merla in base ai rilievi editi ed inediti del R. Ufficio Geologico, 1944, scala 1:300.000. R. Ufficio Geologico, Roma. Stabilimento cartografico G. Giardi, Firenze. 67x88 cm.
Single Fused Map Cache: false
Extent:
XMin: 1283065.3114612272
YMin: 5092473.163100901
XMax: 1557480.5961432273
YMax: 5455984.319432901
Spatial Reference: 102100
(3857)
Initial Extent:
XMin: 1283065.3114612272
YMin: 5092473.163100901
XMax: 1557480.5961432273
YMax: 5455984.319432901
Spatial Reference: 102100
(3857)
Full Extent:
XMin: 1283065.3114612272
YMin: 5092473.163100901
XMax: 1557480.5961432273
YMax: 5455984.319432901
Spatial Reference: 102100
(3857)
Pixel Size X: 154.94934200000003
Pixel Size Y: 154.94934200000006
Band Count: 4
Pixel Type: U16
RasterFunction Infos: N/A
Mensuration Capabilities: Basic
Has Histograms: true
Has Colormap: false
Min Scale: 0
Max Scale: 0
Copyright Text:
Service Data Type: esriImageServiceDataTypeGeneric
Min Values: 0, 0, 0, 255
Max Values: 255, 255, 255, 255
Mean Values: 157.6401036359, 148.07134279704, 94.341814959167, 255
Standard Deviation Values: 63.66225950898, 61.254242956179, 50.515041202717, 2.7528007721195E-6
Object ID Field:
Fields:
None
Default Mosaic Method: Center
Allowed Mosaic Methods:
SortField:
SortValue: null
Mosaic Operator: First
Default Compression Quality: 75
Default Resampling Method: Bilinear
Max Record Count: null
Max Image Height: 4100
Max Image Width: 15000
Max Download Image Count: null
Max Mosaic Image Count: null
Allow Raster Function: true
Allow Compute TiePoints: false
Supports Statistics: false
Supports Advanced Queries: false
Use StandardizedQueries: true
Raster Type Infos:
Name: Raster Dataset
Description: Supports all ArcGIS Raster Datasets
Help:
Has Raster Attribute Table: false
Edit Fields Info: null
Ownership Based AccessControl For Rasters: null
Child Resources:
Info
Histograms
Key Properties
Legend
Supported Operations:
Export Image
Identify
Measure
Compute Histograms
Get Samples
Compute Class Statistics