View In:
ArcGIS JavaScript
ArcGIS.com Map
Google Earth
ArcMap
View Footprint In:
ArcGIS.com Map
Service Description: Carta geologica dei Vulcani Cimini, di Venturino Sabatini, 1912, scala 1:75.000. Stab. L. Salomone, Roma. 59 x 64 cm. In: Venturino Sabatini (1912), I vulcani dell'Italia centrale e i loro prodotti: Vulcani Cimini. Memorie Descrittive della Carta Geologica d'Italia,vol.15, R. Ufficio Geologico.
Name: servizi/Carta_geologica_Vulcani_Cimini
Description: Carta geologica dei Vulcani Cimini, di Venturino Sabatini, 1912, scala 1:75.000. Stab. L. Salomone, Roma. 59 x 64 cm. In: Venturino Sabatini (1912), I vulcani dell'Italia centrale e i loro prodotti: Vulcani Cimini. Memorie Descrittive della Carta Geologica d'Italia,vol.15, R. Ufficio Geologico.
Single Fused Map Cache: false
Extent:
XMin: 1323313.6502898792
YMin: 5183016.884274625
XMax: 1391845.811233879
YMax: 5243846.638818625
Spatial Reference: 102100
(3857)
Initial Extent:
XMin: 1323313.6502898792
YMin: 5183016.884274625
XMax: 1391845.811233879
YMax: 5243846.638818625
Spatial Reference: 102100
(3857)
Full Extent:
XMin: 1323313.6502898792
YMin: 5183016.884274625
XMax: 1391845.811233879
YMax: 5243846.638818625
Spatial Reference: 102100
(3857)
Pixel Size X: 6.418671999999989
Pixel Size Y: 6.418672000000015
Band Count: 3
Pixel Type: U16
RasterFunction Infos: N/A
Mensuration Capabilities: Basic
Has Histograms: true
Has Colormap: false
Min Scale: 0
Max Scale: 0
Copyright Text:
Service Data Type: esriImageServiceDataTypeGeneric
Min Values: 0, 0, 0
Max Values: 255, 255, 255
Mean Values: 164.11229923643, 128.24983985837, 92.432220295699
Standard Deviation Values: 56.509205365319, 68.865155600862, 76.52080539574
Object ID Field:
Fields:
None
Default Mosaic Method: Center
Allowed Mosaic Methods:
SortField:
SortValue: null
Mosaic Operator: First
Default Compression Quality: 75
Default Resampling Method: Bilinear
Max Record Count: null
Max Image Height: 4100
Max Image Width: 15000
Max Download Image Count: null
Max Mosaic Image Count: null
Allow Raster Function: true
Allow Compute TiePoints: false
Supports Statistics: false
Supports Advanced Queries: false
Use StandardizedQueries: true
Raster Type Infos:
Name: Raster Dataset
Description: Supports all ArcGIS Raster Datasets
Help:
Has Raster Attribute Table: false
Edit Fields Info: null
Ownership Based AccessControl For Rasters: null
Child Resources:
Info
Histograms
Key Properties
Legend
Supported Operations:
Export Image
Identify
Measure
Compute Histograms
Get Samples
Compute Class Statistics