View In:
ArcGIS JavaScript
ArcGIS.com Map
Google Earth
ArcMap
View Footprint In:
ArcGIS.com Map
Service Description: Vulcani Vulsini: geologia e bocche eruttive, a cura di Pompeo Moderni, 1904, scala 1:100.000. Roma. 61 x 67 cm. In: P. Moderni (1903-1904), Contribuzione allo studio geologico dei Vulcani Vulsini, Bollettino del R. Comitato Geologico d’Italia, vol. 34 (1903) e vol. 35 (1904).
Name: servizi/Carta_geologica_Vulsini
Description: Vulcani Vulsini: geologia e bocche eruttive, a cura di Pompeo Moderni, 1904, scala 1:100.000. Roma. 61 x 67 cm. In: P. Moderni (1903-1904), Contribuzione allo studio geologico dei Vulcani Vulsini, Bollettino del R. Comitato Geologico d’Italia, vol. 34 (1903) e vol. 35 (1904).
Single Fused Map Cache: false
Extent:
XMin: 1279632.1758516682
YMin: 5203799.38204684
XMax: 1372537.9147636683
YMax: 5289976.5072148405
Spatial Reference: 102100
(3857)
Initial Extent:
XMin: 1279632.1758516682
YMin: 5203799.38204684
XMax: 1372537.9147636683
YMax: 5289976.5072148405
Spatial Reference: 102100
(3857)
Full Extent:
XMin: 1279632.1758516682
YMin: 5203799.38204684
XMax: 1372537.9147636683
YMax: 5289976.5072148405
Spatial Reference: 102100
(3857)
Pixel Size X: 23.12238400000002
Pixel Size Y: 23.122384000000093
Band Count: 3
Pixel Type: U16
RasterFunction Infos: N/A
Mensuration Capabilities: Basic
Has Histograms: true
Has Colormap: false
Min Scale: 0
Max Scale: 0
Copyright Text:
Service Data Type: esriImageServiceDataTypeGeneric
Min Values: 0, 0, 0
Max Values: 255, 253, 255
Mean Values: 146.90776620592, 117.99613734221, 82.940279911856
Standard Deviation Values: 57.508253660865, 53.830228401653, 40.321691118293
Object ID Field:
Fields:
None
Default Mosaic Method: Center
Allowed Mosaic Methods:
SortField:
SortValue: null
Mosaic Operator: First
Default Compression Quality: 75
Default Resampling Method: Bilinear
Max Record Count: null
Max Image Height: 4100
Max Image Width: 15000
Max Download Image Count: null
Max Mosaic Image Count: null
Allow Raster Function: true
Allow Compute TiePoints: false
Supports Statistics: false
Supports Advanced Queries: false
Use StandardizedQueries: true
Raster Type Infos:
Name: Raster Dataset
Description: Supports all ArcGIS Raster Datasets
Help:
Has Raster Attribute Table: false
Edit Fields Info: null
Ownership Based AccessControl For Rasters: null
Child Resources:
Info
Histograms
Key Properties
Legend
Supported Operations:
Export Image
Identify
Measure
Compute Histograms
Get Samples
Compute Class Statistics