View In:
ArcGIS JavaScript
ArcGIS.com Map
Google Earth
ArcMap
View Footprint In:
ArcGIS.com Map
Service Description: Lidar Arquata
Name: servizi/HS_LiDAR_ARQUATA
Description: Lidar Arquata
Single Fused Map Cache: false
Extent:
XMin: 355147.0000010983
YMin: 4732200.000117428
XMax: 362181.0000010983
YMax: 4740477.000117428
Spatial Reference: 32633
(32633)
Initial Extent:
XMin: 355147.0000010983
YMin: 4732200.000117428
XMax: 362181.0000010983
YMax: 4740477.000117428
Spatial Reference: 32633
(32633)
Full Extent:
XMin: 355147.0000010983
YMin: 4732200.000117428
XMax: 362181.0000010983
YMax: 4740477.000117428
Spatial Reference: 32633
(32633)
Pixel Size X: 1.0
Pixel Size Y: 1.0
Band Count: 1
Pixel Type: U8
RasterFunction Infos: N/A
Mensuration Capabilities: Basic
Has Histograms: true
Has Colormap: false
Min Scale: 0
Max Scale: 0
Copyright Text:
Service Data Type: esriImageServiceDataTypeGeneric
Min Values: 0
Max Values: 254
Mean Values: 148.17215671328
Standard Deviation Values: 62.672131560674
Object ID Field:
Fields:
None
Default Mosaic Method: Center
Allowed Mosaic Methods:
SortField:
SortValue: null
Mosaic Operator: First
Default Compression Quality: 75
Default Resampling Method: Bilinear
Max Record Count: null
Max Image Height: 4100
Max Image Width: 15000
Max Download Image Count: null
Max Mosaic Image Count: null
Allow Raster Function: true
Allow Compute TiePoints: false
Supports Statistics: false
Supports Advanced Queries: false
Use StandardizedQueries: true
Raster Type Infos:
Name: Raster Dataset
Description: Supports all ArcGIS Raster Datasets
Help:
Has Raster Attribute Table: false
Edit Fields Info: null
Ownership Based AccessControl For Rasters: null
Child Resources:
Info
Histograms
Key Properties
Legend
Supported Operations:
Export Image
Identify
Measure
Compute Histograms
Get Samples
Compute Class Statistics